BEGIN:VCALENDAR
VERSION:2.0
PRODID:spatie/icalendar-generator
DESCRIPTION:Events from Circle Of The Divine
X-WR-CALDESC:Events from Circle Of The Divine
REFRESH-INTERVAL;VALUE=DURATION:PT1440M
X-PUBLISHED-TTL:PT1440M
BEGIN:VTIMEZONE
TZID:America/Denver
BEGIN:STANDARD
DTSTART:20251102T020000Z
TZOFFSETFROM:-0600
TZOFFSETTO:-0700
END:STANDARD
BEGIN:DAYLIGHT
DTSTART:20260308T020000Z
TZOFFSETFROM:-0700
TZOFFSETTO:-0600
END:DAYLIGHT
BEGIN:STANDARD
DTSTART:20261101T020000Z
TZOFFSETFROM:-0600
TZOFFSETTO:-0700
END:STANDARD
END:VTIMEZONE
BEGIN:VTIMEZONE
TZID:UTC
BEGIN:STANDARD
DTSTART:20250726T111904Z
TZOFFSETFROM:+0000
TZOFFSETTO:+0000
END:STANDARD
END:VTIMEZONE
BEGIN:VEVENT
UID:68-15
DTSTAMP:20260422T111904Z
SUMMARY:Litha (N Hemisphere)
LOCATION:
ORGANIZER;CN=circleofthedivine:MAILTO:deshadara@circleofthedivine.com
DTSTART;TZID=America/Denver:20260621T022400
DTEND;TZID=America/Denver:20260621T032400
X-ALT-DESC;FMTTYPE=TEXT/HTML:First Day of Summer-- Time is in MST
CATEGORIES:Wiccan Holidays
URL;VALUE=URI:https://circleofthedivine.com/mc-events/litha-n-hemisphere-3/
METHOD:PUBLISH
END:VEVENT
END:VCALENDAR