BEGIN:VCALENDAR
VERSION:2.0
PRODID:spatie/icalendar-generator
DESCRIPTION:Events from Circle Of The Divine
X-WR-CALDESC:Events from Circle Of The Divine
REFRESH-INTERVAL;VALUE=DURATION:PT1440M
X-PUBLISHED-TTL:PT1440M
BEGIN:VTIMEZONE
TZID:America/Denver
BEGIN:STANDARD
DTSTART:20231105T020000Z
TZOFFSETFROM:-0600
TZOFFSETTO:-0700
END:STANDARD
BEGIN:DAYLIGHT
DTSTART:20240310T020000Z
TZOFFSETFROM:-0700
TZOFFSETTO:-0600
END:DAYLIGHT
END:VTIMEZONE
BEGIN:VTIMEZONE
TZID:UTC
BEGIN:STANDARD
DTSTART:20250726T155202Z
TZOFFSETFROM:+0000
TZOFFSETTO:+0000
END:STANDARD
END:VTIMEZONE
BEGIN:VEVENT
UID:38-10
DTSTAMP:20260422T155202Z
SUMMARY:Imbolc
LOCATION:
ORGANIZER;CN=circleofthedivine:MAILTO:deshadara@circleofthedivine.com
RRULE:FREQ=YEARLY;BYMONTH=02;BYDAY=01;UNTIL=20340201T000000Z
DTSTART;TZID=America/Denver:20240201T170000
DTEND;TZID=America/Denver:20240202T170000
X-ALT-DESC;FMTTYPE=TEXT/HTML:First stirrings of Springs -- Is celebrated ye
 arly from sunset of 1 Feb to sunset of 2 Feb
CATEGORIES:Wiccan Holidays
URL;VALUE=URI:https://circleofthedivine.com/mc-events/imbolc/?mc_id=38
METHOD:PUBLISH
END:VEVENT
END:VCALENDAR