BEGIN:VCALENDAR
VERSION:2.0
PRODID:spatie/icalendar-generator
DESCRIPTION:Events from Circle Of The Divine
X-WR-CALDESC:Events from Circle Of The Divine
REFRESH-INTERVAL;VALUE=DURATION:PT1440M
X-PUBLISHED-TTL:PT1440M
BEGIN:VTIMEZONE
TZID:America/Denver
BEGIN:STANDARD
DTSTART:20221106T020000Z
TZOFFSETFROM:-0600
TZOFFSETTO:-0700
END:STANDARD
BEGIN:DAYLIGHT
DTSTART:20230312T020000Z
TZOFFSETFROM:-0700
TZOFFSETTO:-0600
END:DAYLIGHT
BEGIN:STANDARD
DTSTART:20231105T020000Z
TZOFFSETFROM:-0600
TZOFFSETTO:-0700
END:STANDARD
END:VTIMEZONE
BEGIN:VTIMEZONE
TZID:UTC
BEGIN:STANDARD
DTSTART:20250726T125233Z
TZOFFSETFROM:+0000
TZOFFSETTO:+0000
END:STANDARD
END:VTIMEZONE
BEGIN:VEVENT
UID:14-4
DTSTAMP:20260422T125233Z
SUMMARY:Litha
LOCATION:
ORGANIZER;CN=circleofthedivine:MAILTO:deshadara@circleofthedivine.com
DTSTART;TZID=America/Denver:20230621T085700
DTEND;TZID=America/Denver:20230621T095700
X-ALT-DESC;FMTTYPE=TEXT/HTML:Summer Solstice
CATEGORIES:General
URL;VALUE=URI:https://circleofthedivine.com/mc-events/litha/
METHOD:PUBLISH
END:VEVENT
END:VCALENDAR